BEGIN:VCALENDAR
VERSION:2.0
PRODID:-//wp-events-plugin.com//5.99912//EN
TZID:Europe/Paris
X-WR-TIMEZONE:Europe/Paris
BEGIN:VEVENT
UID:0-712@marseille4-5.fr
DTSTART;TZID=Europe/Paris:20260423T180000
DTEND;TZID=Europe/Paris:20260423T200000
DTSTAMP:20260422T075013Z
URL:https://www.marseille4-5.fr/evenements/conseil-darrondissements/
SUMMARY:Conseil d’arrondissements
DESCRIPTION:Un temps important de la vie locale\, ouvert au public.
ATTACH;FMTTYPE=image/jpeg:https://www.marseille4-5.fr/app/uploads/2026/04/
 Mairie45-Conseil-Arrondissement50326-11-c-Julie-Vandal.jpg
CATEGORIES:Info Mairie
LOCATION:Mairie des 4ᵉ & 5ᵉ arrondissements 13005 Marseille\, France
X-APPLE-STRUCTURED-LOCATION;VALUE=URI;X-ADDRESS=Mairie des 4ᵉ & 5ᵉ arro
 ndissements 13005 Marseille\, France;X-APPLE-RADIUS=100;X-TITLE=:geo:0,0
END:VEVENT
BEGIN:VTIMEZONE
TZID:Europe/Paris
X-LIC-LOCATION:Europe/Paris
BEGIN:DAYLIGHT
DTSTART:20260329T030000
TZOFFSETFROM:+0100
TZOFFSETTO:+0200
TZNAME:CEST
END:DAYLIGHT
END:VTIMEZONE
END:VCALENDAR