BEGIN:VCALENDAR
VERSION:2.0
PRODID:-//wp-events-plugin.com//5.99912//EN
TZID:Europe/Paris
X-WR-TIMEZONE:Europe/Paris
BEGIN:VEVENT
UID:0-694@marseille4-5.fr
DTSTART;TZID=Europe/Paris:20260513T193000
DTEND;TZID=Europe/Paris:20260513T213000
DTSTAMP:20260210T132747Z
URL:https://www.marseille4-5.fr/evenements/cine-debat-taxi-teheran/
SUMMARY:Ciné-Débat : Taxi Téhéran
DESCRIPTION:
ATTACH;FMTTYPE=image/jpeg:https://www.marseille4-5.fr/app/uploads/2026/02/
 Taxi-teheran.jpg
CATEGORIES:Ciné-club,On débat dans les 4ᵉ et 5ᵉ
LOCATION:Théâtre du HangArt\, 106bis, Boulevard Françoise Duparc 13004 M
 arseille\, France
X-APPLE-STRUCTURED-LOCATION;VALUE=URI;X-ADDRESS=106bis, Boulevard François
 e Duparc 13004 Marseille\, France;X-APPLE-RADIUS=100;X-TITLE=Théâtre du 
 HangArt:geo:0,0
END:VEVENT
BEGIN:VTIMEZONE
TZID:Europe/Paris
X-LIC-LOCATION:Europe/Paris
BEGIN:DAYLIGHT
DTSTART:20260329T030000
TZOFFSETFROM:+0100
TZOFFSETTO:+0200
TZNAME:CEST
END:DAYLIGHT
END:VTIMEZONE
END:VCALENDAR